BEGIN:VCALENDAR
VERSION:2.0
PRODID:-//SE Haertsfeld-Kochertal - ECPv5.14.1//NONSGML v1.0//EN
CALSCALE:GREGORIAN
METHOD:PUBLISH
X-WR-CALNAME:SE Haertsfeld-Kochertal
X-ORIGINAL-URL:https://se-haertsfeld-kochertal.de
X-WR-CALDESC:Veranstaltungen für SE Haertsfeld-Kochertal
BEGIN:VTIMEZONE
TZID:UTC
BEGIN:STANDARD
TZOFFSETFROM:+0000
TZOFFSETTO:+0000
TZNAME:UTC
DTSTART:20190101T000000
END:STANDARD
END:VTIMEZONE
BEGIN:VEVENT
DTSTART;TZID=UTC:20190704T150000
DTEND;TZID=UTC:20190704T170000
DTSTAMP:20260424T054259
CREATED:20190506T092605Z
LAST-MODIFIED:20190524T084539Z
UID:3498-1562252400-1562259600@se-haertsfeld-kochertal.de
SUMMARY:Trauercafé in Oberkochen
DESCRIPTION:Im Trauercafé treffen sie Menschen\, die ebenso trauern wie sie selbst. \nSie erleben die Kraft der Gemeinschaft. Sie dürfen reden\, zuhören oder schweigen. \nHierzu sind alle Trauernde herzlich eingeladen.
URL:https://se-haertsfeld-kochertal.de/event/3498
LOCATION:Edith-Stein-Haus Oberkochen\, Aalener Str. 6\, Oberkochen\, 73447\, Deutschland
CATEGORIES:Oberkochen,Startseite
ATTACH;FMTTYPE=image/png:https://se-haertsfeld-kochertal.de/wp-content/uploads/2019/05/Rose_Trauercafe_heller.png
END:VEVENT
END:VCALENDAR