BEGIN:VCALENDAR
VERSION:2.0
PRODID:-//SE Haertsfeld-Kochertal - ECPv5.14.1//NONSGML v1.0//EN
CALSCALE:GREGORIAN
METHOD:PUBLISH
X-WR-CALNAME:SE Haertsfeld-Kochertal
X-ORIGINAL-URL:https://se-haertsfeld-kochertal.de
X-WR-CALDESC:Veranstaltungen für SE Haertsfeld-Kochertal
BEGIN:VTIMEZONE
TZID:UTC
BEGIN:STANDARD
TZOFFSETFROM:+0000
TZOFFSETTO:+0000
TZNAME:UTC
DTSTART:20190101T000000
END:STANDARD
END:VTIMEZONE
BEGIN:VEVENT
DTSTART;TZID=UTC:20190623T150000
DTEND;TZID=UTC:20190623T153000
DTSTAMP:20260424T072218
CREATED:20190128T113420Z
LAST-MODIFIED:20190128T113838Z
UID:3223-1561302000-1561303800@se-haertsfeld-kochertal.de
SUMMARY:Andacht in Maria Eich in Ebnat
DESCRIPTION:Enfällt bei schlechter Witterung
URL:https://se-haertsfeld-kochertal.de/event/andacht-in-maria-eich-in-ebnat
LOCATION:Kapelle Maria Eich\, Maria Eich\, Aalen-Ebnat\, Baden-Württemberg\, 73432\, Deutschland
CATEGORIES:Ebnat,Maria Eich
END:VEVENT
END:VCALENDAR