BEGIN:VCALENDAR
VERSION:2.0
PRODID:-//SE Haertsfeld-Kochertal - ECPv5.14.1//NONSGML v1.0//EN
CALSCALE:GREGORIAN
METHOD:PUBLISH
X-WR-CALNAME:SE Haertsfeld-Kochertal
X-ORIGINAL-URL:https://se-haertsfeld-kochertal.de
X-WR-CALDESC:Veranstaltungen für SE Haertsfeld-Kochertal
BEGIN:VTIMEZONE
TZID:UTC
BEGIN:STANDARD
TZOFFSETFROM:+0000
TZOFFSETTO:+0000
TZNAME:UTC
DTSTART:20260101T000000
END:STANDARD
END:VTIMEZONE
BEGIN:VEVENT
DTSTART;TZID=UTC:20260501T090000
DTEND;TZID=UTC:20260501T090000
DTSTAMP:20260420T153341
CREATED:20260420T114819Z
LAST-MODIFIED:20260420T114819Z
UID:12813-1777626000-1777626000@se-haertsfeld-kochertal.de
SUMMARY:Eucharistiefeier bei der Josefskapelle
DESCRIPTION:Die ganze Gemeinde und Wanderer sind zur Mitfeier herzlich eingeladen.\nBei schlechter Witterung feiern wir die Eucharistiefeier in der Pfarrkirche.
URL:https://se-haertsfeld-kochertal.de/event/eucharistiefeier-bei-der-josefskapelle
LOCATION:josefskapelle\, Oberkochen
CATEGORIES:Oberkochen,Startseite
ATTACH;FMTTYPE=image/jpeg:https://se-haertsfeld-kochertal.de/wp-content/uploads/2019/01/Oberkochen-Josefskapelle.jpg
END:VEVENT
END:VCALENDAR