BEGIN:VCALENDAR
VERSION:2.0
PRODID:-//SE Haertsfeld-Kochertal - ECPv5.14.1//NONSGML v1.0//EN
CALSCALE:GREGORIAN
METHOD:PUBLISH
X-WR-CALNAME:SE Haertsfeld-Kochertal
X-ORIGINAL-URL:https://se-haertsfeld-kochertal.de
X-WR-CALDESC:Veranstaltungen für SE Haertsfeld-Kochertal
BEGIN:VTIMEZONE
TZID:UTC
BEGIN:STANDARD
TZOFFSETFROM:+0000
TZOFFSETTO:+0000
TZNAME:UTC
DTSTART:20190101T000000
END:STANDARD
END:VTIMEZONE
BEGIN:VEVENT
DTSTART;TZID=UTC:20190704T083000
DTEND;TZID=UTC:20190704T110000
DTSTAMP:20260424T040310
CREATED:20190114T123142Z
LAST-MODIFIED:20190114T123142Z
UID:3161-1562229000-1562238000@se-haertsfeld-kochertal.de
SUMMARY:Frauenbund Unterkochen - Gottesdienst zum Bundesfest
DESCRIPTION:mit anschließendem Frühstück im Bischof-Hefele-Haus
URL:https://se-haertsfeld-kochertal.de/event/frauenbund-unterkochen-gottesdienst-zum-bundesfest
LOCATION:Katholische Kirche St. Maria Unterkochen\, Vorderer Kirchberg 32\, Unterkochen\, Baden-Württemberg\, 73432\, Deutschland
CATEGORIES:Unterkochen
ORGANIZER;CN="Frauenbund%20Unterkochen":MAILTO:st
END:VEVENT
END:VCALENDAR