BEGIN:VCALENDAR
VERSION:2.0
PRODID:-//SE Haertsfeld-Kochertal - ECPv5.14.1//NONSGML v1.0//EN
CALSCALE:GREGORIAN
METHOD:PUBLISH
X-WR-CALNAME:SE Haertsfeld-Kochertal
X-ORIGINAL-URL:https://se-haertsfeld-kochertal.de
X-WR-CALDESC:Veranstaltungen für SE Haertsfeld-Kochertal
BEGIN:VTIMEZONE
TZID:UTC
BEGIN:STANDARD
TZOFFSETFROM:+0000
TZOFFSETTO:+0000
TZNAME:UTC
DTSTART:20250101T000000
END:STANDARD
END:VTIMEZONE
BEGIN:VEVENT
DTSTART;TZID=UTC:20251101T113000
DTEND;TZID=UTC:20251101T140000
DTSTAMP:20260421T104817
CREATED:20251020T101424Z
LAST-MODIFIED:20251020T101621Z
UID:12275-1761996600-1762005600@se-haertsfeld-kochertal.de
SUMMARY:Oberkochen: Einladung zum Kürbis-Suppen-Essen
DESCRIPTION:
URL:https://se-haertsfeld-kochertal.de/event/kuerbissuppenessen
LOCATION:Kath. Gemeindezentrum Rupert-Mayer-Haus Oberkochen\, Bürgermeister-Bosch-Str. 14\, Oberkochen\, 73447\, Deutschland
CATEGORIES:Oberkochen,Startseite
ATTACH;FMTTYPE=image/jpeg:https://se-haertsfeld-kochertal.de/wp-content/uploads/2025/10/Kuerbisuppeessen.jpeg
ORGANIZER;CN="Kath.%20Kirchengemeinde%20Oberkochen":MAILTO:StPeterundPaul.Oberkochen@drs.de
END:VEVENT
END:VCALENDAR